{"text_format":"1","workbook":"xlsx","n_sheets":11,"sheets":["1","2","3","4","5","6","7","8","jaaroverzicht","landelijk gemiddelden","totalen"],"not_rendered":{"charts":10,"images":2,"macros":0,"external_links":0,"defined_names":28,"comments":0,"pivot_tables":0},"unopened":[],"bounds":{"document_bytes":16777216,"sheet_cells":100000,"rows_first":2000,"rows_last":500,"rows_between":2000,"halvings":0,"cell_chars":16384,"cell_head_chars":4096},"cells_cut":0,"cells_raw":0,"read":"whole","date_system":"1900"}

{"sheet":"1","index":0,"n_rows":10,"n_cols":14,"rows_kept":10,"cut":false,"hidden":false,"merged":[[4,0,4,13],[7,0,7,13]]}
[]
[2012,"januari","februari","maart","april","mei","juni","juli","augustus","september","oktober","november","december","verhouding"]
[{"$f":"totalen!P2","v":"geleverde electriciteit hoog (kWh):"},null,null,null,null,null,null,null,null,null,null,null,null,{"$f":"SUM(B3:M3)/totalen!N27","v":{"$error":"#DIV/0!"}}]
[{"$f":"totalen!P3","v":"geleverde electriciteit laag (kWh):"},null,null,null,null,null,null,null,null,null,null,null,null,{"$f":"SUM(B4:M4)/totalen!N27","v":{"$error":"#DIV/0!"}}]
[]
[{"$f":"totalen!P4","v":"teruggeleverde electriciteit hoog (kWh):"},null,null,null,null,null,null,null,null,null,null,null,null,{"$f":"SUM(B6:M6)/totalen!N63","v":{"$error":"#DIV/0!"}}]
[{"$f":"totalen!P5","v":"teruggeleverde electriciteit laag (kWh):"},null,null,null,null,null,null,null,null,null,null,null,null,{"$f":"SUM(B7:M7)/totalen!N63","v":{"$error":"#DIV/0!"}}]
[]
["verbruikt gas (m3):"]
["verbruikt water (m3):"]

{"sheet":"2","index":1,"n_rows":10,"n_cols":14,"rows_kept":10,"cut":false,"hidden":false,"merged":[[7,0,7,13],[4,0,4,13]]}
[]
[2013,"januari","februari","maart","april","mei","juni","juli","augustus","september","oktober","november","december","verhouding"]
[{"$f":"totalen!P2","v":"geleverde electriciteit hoog (kWh):"},null,null,null,null,null,null,null,null,null,null,null,null,{"$f":"SUM(B3:M3)/totalen!N28","v":{"$error":"#DIV/0!"}}]
[{"$f":"totalen!P3","v":"geleverde electriciteit laag (kWh):"},null,null,null,null,null,null,null,null,null,null,null,null,{"$f":"SUM(B4:M4)/totalen!N28","v":{"$error":"#DIV/0!"}}]
[]
[{"$f":"totalen!P4","v":"teruggeleverde electriciteit hoog (kWh):"},null,null,null,null,null,null,null,null,null,null,null,null,{"$f":"SUM(B6:M6)/totalen!N64","v":{"$error":"#DIV/0!"}}]
[{"$f":"totalen!P5","v":"teruggeleverde electriciteit laag (kWh):"},null,null,null,null,null,null,null,null,null,null,null,null,{"$f":"SUM(B7:M7)/totalen!N64","v":{"$error":"#DIV/0!"}}]
[]
["verbruikt gas (m3):"]
["verbruikt water (m3):"]

{"sheet":"3","index":2,"n_rows":10,"n_cols":14,"rows_kept":10,"cut":false,"hidden":false,"merged":[[4,0,4,13],[7,0,7,13]]}
[]
[null,"januari","februari","maart","april","mei","juni","juli","augustus","september","oktober","november","december","verhouding"]
[{"$f":"totalen!P2","v":"geleverde electriciteit hoog (kWh):"},null,null,null,null,null,null,null,null,null,null,null,null,{"$f":"SUM(B3:M3)/totalen!N29","v":{"$error":"#DIV/0!"}}]
[{"$f":"totalen!P3","v":"geleverde electriciteit laag (kWh):"},null,null,null,null,null,null,null,null,null,null,null,null,{"$f":"SUM(B4:M4)/totalen!N29","v":{"$error":"#DIV/0!"}}]
[]
[{"$f":"totalen!P4","v":"teruggeleverde electriciteit hoog (kWh):"},null,null,null,null,null,null,null,null,null,null,null,null,{"$f":"SUM(B6:M6)/totalen!N65","v":{"$error":"#DIV/0!"}}]
[{"$f":"totalen!P5","v":"teruggeleverde electriciteit laag (kWh):"},null,null,null,null,null,null,null,null,null,null,null,null,{"$f":"SUM(B7:M7)/totalen!N65","v":{"$error":"#DIV/0!"}}]
[]
["verbruikt gas (m3):"]
["verbruikt water (m3):"]

{"sheet":"4","index":3,"n_rows":10,"n_cols":14,"rows_kept":10,"cut":false,"hidden":false,"merged":[[4,0,4,13],[7,0,7,13]]}
[]
[null,"januari","februari","maart","april","mei","juni","juli","augustus","september","oktober","november","december","verhouding"]
[{"$f":"totalen!P2","v":"geleverde electriciteit hoog (kWh):"},null,null,null,null,null,null,null,null,null,null,null,null,{"$f":"SUM(B3:M3)/totalen!N30","v":{"$error":"#DIV/0!"}}]
[{"$f":"totalen!P3","v":"geleverde electriciteit laag (kWh):"},null,null,null,null,null,null,null,null,null,null,null,null,{"$f":"SUM(B4:M4)/totalen!N30","v":{"$error":"#DIV/0!"}}]
[]
[{"$f":"totalen!P4","v":"teruggeleverde electriciteit hoog (kWh):"},null,null,null,null,null,null,null,null,null,null,null,null,{"$f":"SUM(B6:M6)/totalen!N66","v":{"$error":"#DIV/0!"}}]
[{"$f":"totalen!P5","v":"teruggeleverde electriciteit laag (kWh):"},null,null,null,null,null,null,null,null,null,null,null,null,{"$f":"SUM(B7:M7)/totalen!N66","v":{"$error":"#DIV/0!"}}]
[]
["verbruikt gas (m3):"]
["verbruikt water (m3):"]

{"sheet":"5","index":4,"n_rows":10,"n_cols":14,"rows_kept":10,"cut":false,"hidden":false,"merged":[[4,0,4,13],[7,0,7,13]]}
[]
[null,"januari","februari","maart","april","mei","juni","juli","augustus","september","oktober","november","december","verhouding"]
[{"$f":"totalen!P2","v":"geleverde electriciteit hoog (kWh):"},null,null,null,null,null,null,null,null,null,null,null,null,{"$f":"SUM(B3:M3)/totalen!N31","v":{"$error":"#DIV/0!"}}]
[{"$f":"totalen!P3","v":"geleverde electriciteit laag (kWh):"},null,null,null,null,null,null,null,null,null,null,null,null,{"$f":"SUM(B4:M4)/totalen!N31","v":{"$error":"#DIV/0!"}}]
[]
[{"$f":"totalen!P4","v":"teruggeleverde electriciteit hoog (kWh):"},null,null,null,null,null,null,null,null,null,null,null,null,{"$f":"SUM(B6:M6)/totalen!N67","v":{"$error":"#DIV/0!"}}]
[{"$f":"totalen!P5","v":"teruggeleverde electriciteit laag (kWh):"},null,null,null,null,null,null,null,null,null,null,null,null,{"$f":"SUM(B7:M7)/totalen!N67","v":{"$error":"#DIV/0!"}}]
[]
["verbruikt gas (m3):"]
["verbruikt water (m3):"]

{"sheet":"6","index":5,"n_rows":10,"n_cols":14,"rows_kept":10,"cut":false,"hidden":false,"merged":[[4,0,4,13],[7,0,7,13]]}
[]
[null,"januari","februari","maart","april","mei","juni","juli","augustus","september","oktober","november","december","verhouding"]
[{"$f":"totalen!P2","v":"geleverde electriciteit hoog (kWh):"},null,null,null,null,null,null,null,null,null,null,null,null,{"$f":"SUM(B3:M3)/totalen!N32","v":{"$error":"#DIV/0!"}}]
[{"$f":"totalen!P3","v":"geleverde electriciteit laag (kWh):"},null,null,null,null,null,null,null,null,null,null,null,null,{"$f":"SUM(B4:M4)/totalen!N32","v":{"$error":"#DIV/0!"}}]
[]
[{"$f":"totalen!P4","v":"teruggeleverde electriciteit hoog (kWh):"},null,null,null,null,null,null,null,null,null,null,null,null,{"$f":"SUM(B6:M6)/totalen!N68","v":{"$error":"#DIV/0!"}}]
[{"$f":"totalen!P5","v":"teruggeleverde electriciteit laag (kWh):"},null,null,null,null,null,null,null,null,null,null,null,null,{"$f":"SUM(B7:M7)/totalen!N68","v":{"$error":"#DIV/0!"}}]
[]
["verbruikt gas (m3):"]
["verbruikt water (m3):"]

{"sheet":"7","index":6,"n_rows":10,"n_cols":14,"rows_kept":10,"cut":false,"hidden":false,"merged":[[4,0,4,13],[7,0,7,13]]}
[]
[null,"januari","februari","maart","april","mei","juni","juli","augustus","september","oktober","november","december","verhouding"]
[{"$f":"totalen!P2","v":"geleverde electriciteit hoog (kWh):"},null,null,null,null,null,null,null,null,null,null,null,null,{"$f":"SUM(B3:M3)/totalen!N33","v":{"$error":"#DIV/0!"}}]
[{"$f":"totalen!P3","v":"geleverde electriciteit laag (kWh):"},null,null,null,null,null,null,null,null,null,null,null,null,{"$f":"SUM(B4:M4)/totalen!N33","v":{"$error":"#DIV/0!"}}]
[]
[{"$f":"totalen!P4","v":"teruggeleverde electriciteit hoog (kWh):"},null,null,null,null,null,null,null,null,null,null,null,null,{"$f":"SUM(B6:M6)/totalen!N69","v":{"$error":"#DIV/0!"}}]
[{"$f":"totalen!P5","v":"teruggeleverde electriciteit laag (kWh):"},null,null,null,null,null,null,null,null,null,null,null,null,{"$f":"SUM(B7:M7)/totalen!N69","v":{"$error":"#DIV/0!"}}]
[]
["verbruikt gas (m3):"]
["verbruikt water (m3):"]

{"sheet":"8","index":7,"n_rows":10,"n_cols":14,"rows_kept":10,"cut":false,"hidden":false,"merged":[[4,0,4,13],[7,0,7,13]]}
[]
[null,"januari","februari","maart","april","mei","juni","juli","augustus","september","oktober","november","december","verhouding"]
[{"$f":"totalen!P2","v":"geleverde electriciteit hoog (kWh):"},null,null,null,null,null,null,null,null,null,null,null,null,{"$f":"SUM(B3:M3)/totalen!N34","v":{"$error":"#DIV/0!"}}]
[{"$f":"totalen!P3","v":"geleverde electriciteit laag (kWh):"},null,null,null,null,null,null,null,null,null,null,null,null,{"$f":"SUM(B4:M4)/totalen!N34","v":{"$error":"#DIV/0!"}}]
[]
[{"$f":"totalen!P4","v":"teruggeleverde electriciteit hoog (kWh):"},null,null,null,null,null,null,null,null,null,null,null,null,{"$f":"SUM(B6:M6)/totalen!N70","v":{"$error":"#DIV/0!"}}]
[{"$f":"totalen!P5","v":"teruggeleverde electriciteit laag (kWh):"},null,null,null,null,null,null,null,null,null,null,null,null,{"$f":"SUM(B7:M7)/totalen!N70","v":{"$error":"#DIV/0!"}}]
[]
["verbruikt gas (m3):"]
["verbruikt water (m3):"]

{"sheet":"jaaroverzicht","index":8,"n_rows":6,"n_cols":10,"rows_kept":6,"cut":false,"hidden":false,"merged":[[3,0,3,8]]}
[null,{"$f":"'1'!ddd","v":2012},{"$f":"'2'!ddd","v":2013},{"$f":"'3'!ddd","v":0},{"$f":"'4'!ddd","v":0},{"$f":"'5'!ddd","v":0},{"$f":"'6'!ddd","v":0},{"$f":"'7'!ddd","v":0},{"$f":"'8'!ddd","v":0},"gemiddeld"]
[{"$f":"totalen!A25","v":"aangekochte elektriciteit"},{"$f":"totalen!$N27","v":0},{"$f":"totalen!$N28","v":0},{"$f":"totalen!$N29","v":0},{"$f":"totalen!$N30","v":0},{"$f":"totalen!$N31","v":0},{"$f":"totalen!$N32","v":0},{"$f":"totalen!$N33","v":0},{"$f":"totalen!$N34","v":0},{"$f":"totalen!N35","v":{"$error":"#DIV/0!"}}]
[{"$f":"totalen!A61","v":"verkochte elektriciteit"},{"$f":"totalen!$N63","v":0},{"$f":"totalen!$N64","v":0},{"$f":"totalen!$N65","v":0},{"$f":"totalen!$N66","v":0},{"$f":"totalen!$N67","v":0},{"$f":"totalen!$N68","v":0},{"$f":"totalen!$N69","v":0},{"$f":"totalen!$N70","v":0},{"$f":"totalen!N71","v":{"$error":"#DIV/0!"}}]
[]
[{"$f":"totalen!A73","v":"verbruikt gas"},{"$f":"totalen!$N75","v":0},{"$f":"totalen!$N76","v":0},{"$f":"totalen!$N77","v":0},{"$f":"totalen!$N78","v":0},{"$f":"totalen!$N79","v":0},{"$f":"totalen!$N80","v":0},{"$f":"totalen!$N81","v":0},{"$f":"totalen!$N82","v":0},{"$f":"totalen!N83","v":{"$error":"#DIV/0!"}}]
[{"$f":"totalen!A85","v":"verbruikt water"},{"$f":"totalen!$N87","v":0},{"$f":"totalen!$N88","v":0},{"$f":"totalen!$N89","v":0},{"$f":"totalen!$N90","v":0},{"$f":"totalen!$N91","v":0},{"$f":"totalen!$N92","v":0},{"$f":"totalen!$N93","v":0},{"$f":"totalen!$N94","v":0},{"$f":"totalen!N95","v":{"$error":"#DIV/0!"}}]

{"sheet":"landelijk gemiddelden","index":9,"n_rows":7,"n_cols":14,"rows_kept":7,"cut":false,"hidden":false,"merged":[[4,0,4,13]]}
[]
["vanaf 1989","januari","februari","maart","april","mei","juni","juli","augustus","september","oktober","november","december","totaal"]
[{"$f":"totalen!A97","v":"2 persoons huishouden  elektrisch:"},{"$f":"totalen!B97","v":311.22000000000003},{"$f":"totalen!C97","v":269.74},{"$f":"totalen!D97","v":283.27999999999997},{"$f":"totalen!E97","v":261.44},{"$f":"totalen!F97","v":254.69},{"$f":"totalen!G97","v":240.24},{"$f":"totalen!H97","v":237.35},{"$f":"totalen!I97","v":241.52},{"$f":"totalen!J97","v":257.25},{"$f":"totalen!K97","v":275.25},{"$f":"totalen!L97","v":280.39},{"$f":"totalen!M97","v":308.64999999999998},{"$f":"SUM(B3:M3)","v":3221.02}]
[{"$f":"totalen!A99","v":"4 persoons huishouden  elektrisch:"},{"$f":"totalen!B99","v":418.47},{"$f":"totalen!C99","v":362.33},{"$f":"totalen!D99","v":380.9},{"$f":"totalen!E99","v":351.54},{"$f":"totalen!F99","v":342.47},{"$f":"totalen!G99","v":323.02999999999997},{"$f":"totalen!H99","v":319.14999999999998},{"$f":"totalen!I99","v":324.76},{"$f":"totalen!J99","v":333.83},{"$f":"totalen!K99","v":370.11},{"$f":"totalen!L99","v":377.02},{"$f":"totalen!M99","v":415.02},{"$f":"SUM(B4:M4)","v":4318.6299999999992}]
[]
[{"$f":"totalen!A98","v":"2 persoons huishouden  gas:"},{"$f":"totalen!B98","v":225.23},{"$f":"totalen!C98","v":195.2},{"$f":"totalen!D98","v":170.63},{"$f":"totalen!E98","v":128.31},{"$f":"totalen!F98","v":45.05},{"$f":"totalen!G98","v":28.67},{"$f":"totalen!H98","v":24.57},{"$f":"totalen!I98","v":24.57},{"$f":"totalen!J98","v":32.76},{"$f":"totalen!K98","v":108.84},{"$f":"totalen!L98","v":165.17},{"$f":"totalen!M98","v":217.04},{"$f":"SUM(B6:M6)","v":1366.04}]
[{"$f":"totalen!A100","v":"4 persoons huishouden  gas:"},{"$f":"totalen!B100","v":241.73},{"$f":"totalen!C100","v":209.49},{"$f":"totalen!D100","v":183.13},{"$f":"totalen!E100","v":137.71},{"$f":"totalen!F100","v":48.35},{"$f":"totalen!G100","v":30.77},{"$f":"totalen!H100","v":26.37},{"$f":"totalen!I100","v":26.37},{"$f":"totalen!J100","v":37.97},{"$f":"totalen!K100","v":115.74},{"$f":"totalen!L100","v":177.27},{"$f":"totalen!M100","v":232.94},{"$f":"SUM(B7:M7)","v":1467.8400000000001}]

{"sheet":"totalen","index":10,"n_rows":102,"n_cols":16,"rows_kept":102,"cut":false,"hidden":true,"merged":[[0,0,0,13],[24,0,24,13],[60,0,60,13],[84,0,84,13],[72,0,72,13],[48,0,48,13],[36,0,36,13],[12,0,12,13]]}
["aankochte electriciteit hoog"]
[null,"januari","februari","maart","april","mei","juni","juli","augustus","september","oktober","november","december","totaal",null,"geleverde electriciteit hoog (kWh):"]
[{"$f":"'1'!ddd","v":2012},{"$f":"'1'!B$3","v":0},{"$f":"'1'!C$3","v":0},{"$f":"'1'!D$3","v":0},{"$f":"'1'!E$3","v":0},{"$f":"'1'!F$3","v":0},{"$f":"'1'!G$3","v":0},{"$f":"'1'!H$3","v":0},{"$f":"'1'!I$3","v":0},{"$f":"'1'!J$3","v":0},{"$f":"'1'!K$3","v":0},{"$f":"'1'!L$3","v":0},{"$f":"'1'!M$3","v":0},{"$f":"SUM(B3:M3)","v":0},null,"geleverde electriciteit laag (kWh):"]
[{"$f":"'2'!ddd","v":2013},{"$f":"'2'!B$3","v":0},{"$f":"'2'!C$3","v":0},{"$f":"'2'!D$3","v":0},{"$f":"'2'!E$3","v":0},{"$f":"'2'!F$3","v":0},{"$f":"'2'!G$3","v":0},{"$f":"'2'!H$3","v":0},{"$f":"'2'!I$3","v":0},{"$f":"'2'!J$3","v":0},{"$f":"'2'!K$3","v":0},{"$f":"'2'!L$3","v":0},{"$f":"'2'!M$3","v":0},{"$f":"SUM(B4:M4)","v":0},null,"teruggeleverde electriciteit hoog (kWh):"]
[{"$f":"'3'!ddd","v":0},{"$f":"'3'!B$3","v":0},{"$f":"'3'!C$3","v":0},{"$f":"'3'!D$3","v":0},{"$f":"'3'!E$3","v":0},{"$f":"'3'!F$3","v":0},{"$f":"'3'!G$3","v":0},{"$f":"'3'!H$3","v":0},{"$f":"'3'!I$3","v":0},{"$f":"'3'!J$3","v":0},{"$f":"'3'!K$3","v":0},{"$f":"'3'!L$3","v":0},{"$f":"'3'!M$3","v":0},{"$f":"SUM(B5:M5)","v":0},null,"teruggeleverde electriciteit laag (kWh):"]
[{"$f":"'4'!ddd","v":0},{"$f":"'4'!B$3","v":0},{"$f":"'4'!C$3","v":0},{"$f":"'4'!D$3","v":0},{"$f":"'4'!E$3","v":0},{"$f":"'4'!F$3","v":0},{"$f":"'4'!G$3","v":0},{"$f":"'4'!H$3","v":0},{"$f":"'4'!I$3","v":0},{"$f":"'4'!J$3","v":0},{"$f":"'4'!K$3","v":0},{"$f":"'4'!L$3","v":0},{"$f":"'4'!M$3","v":0},0]
[{"$f":"'5'!ddd","v":0},{"$f":"'5'!B$3","v":0},{"$f":"'5'!C$3","v":0},{"$f":"'5'!D$3","v":0},{"$f":"'5'!E$3","v":0},{"$f":"'5'!F$3","v":0},{"$f":"'5'!G$3","v":0},{"$f":"'5'!H$3","v":0},{"$f":"'5'!I$3","v":0},{"$f":"'5'!J$3","v":0},{"$f":"'5'!K$3","v":0},{"$f":"'5'!L$3","v":0},{"$f":"'5'!M$3","v":0},0]
[{"$f":"'6'!ddd","v":0},{"$f":"'6'!B$3","v":0},{"$f":"'6'!C$3","v":0},{"$f":"'6'!D$3","v":0},{"$f":"'6'!E$3","v":0},{"$f":"'6'!F$3","v":0},{"$f":"'6'!G$3","v":0},{"$f":"'6'!H$3","v":0},{"$f":"'6'!I$3","v":0},{"$f":"'6'!J$3","v":0},{"$f":"'6'!K$3","v":0},{"$f":"'6'!L$3","v":0},{"$f":"'6'!M$3","v":0},0]
[{"$f":"'7'!ddd","v":0},{"$f":"'7'!B$3","v":0},{"$f":"'7'!C$3","v":0},{"$f":"'7'!D$3","v":0},{"$f":"'7'!E$3","v":0},{"$f":"'7'!F$3","v":0},{"$f":"'7'!G$3","v":0},{"$f":"'7'!H$3","v":0},{"$f":"'7'!I$3","v":0},{"$f":"'7'!J$3","v":0},{"$f":"'7'!K$3","v":0},{"$f":"'7'!L$3","v":0},{"$f":"'7'!M$3","v":0},0]
[{"$f":"'8'!ddd","v":0},{"$f":"'8'!B$3","v":0},{"$f":"'8'!C$3","v":0},{"$f":"'8'!D$3","v":0},{"$f":"'8'!E$3","v":0},{"$f":"'8'!F$3","v":0},{"$f":"'8'!G$3","v":0},{"$f":"'8'!H$3","v":0},{"$f":"'8'!I$3","v":0},{"$f":"'8'!J$3","v":0},{"$f":"'8'!K$3","v":0},{"$f":"'8'!L$3","v":0},{"$f":"'8'!M$3","v":0},0]
["gemiddeld:",{"$f":"AVERAGEIF(B3:B10,\">0\")","v":{"$error":"#DIV/0!"}},{"$error":"#DIV/0!"},{"$error":"#DIV/0!"},{"$error":"#DIV/0!"},{"$error":"#DIV/0!"},{"$error":"#DIV/0!"},{"$error":"#DIV/0!"},{"$error":"#DIV/0!"},{"$error":"#DIV/0!"},{"$error":"#DIV/0!"},{"$error":"#DIV/0!"},{"$error":"#DIV/0!"},{"$error":"#DIV/0!"}]
[]
["aankochte electriciteit laag"]
[null,"januari","februari","maart","april","mei","juni","juli","augustus","september","oktober","november","december","totaal"]
[{"$f":"'1'!ddd","v":2012},{"$f":"'1'!B$4","v":0},{"$f":"'1'!C$4","v":0},{"$f":"'1'!D$4","v":0},{"$f":"'1'!E$4","v":0},{"$f":"'1'!F$4","v":0},{"$f":"'1'!G$4","v":0},{"$f":"'1'!H$4","v":0},{"$f":"'1'!I$4","v":0},{"$f":"'1'!J$4","v":0},{"$f":"'1'!K$4","v":0},{"$f":"'1'!L$4","v":0},{"$f":"'1'!M$4","v":0},{"$f":"SUM(B15:M15)","v":0}]
[{"$f":"'2'!ddd","v":2013},{"$f":"'2'!B$4","v":0},{"$f":"'2'!C$4","v":0},{"$f":"'2'!D$4","v":0},{"$f":"'2'!E$4","v":0},{"$f":"'2'!F$4","v":0},{"$f":"'2'!G$4","v":0},{"$f":"'2'!H$4","v":0},{"$f":"'2'!I$4","v":0},{"$f":"'2'!J$4","v":0},{"$f":"'2'!K$4","v":0},{"$f":"'2'!L$4","v":0},{"$f":"'2'!M$4","v":0},{"$f":"SUM(B16:M16)","v":0}]
[{"$f":"'3'!ddd","v":0},{"$f":"'3'!B$4","v":0},{"$f":"'3'!C$4","v":0},{"$f":"'3'!D$4","v":0},{"$f":"'3'!E$4","v":0},{"$f":"'3'!F$4","v":0},{"$f":"'3'!G$4","v":0},{"$f":"'3'!H$4","v":0},{"$f":"'3'!I$4","v":0},{"$f":"'3'!J$4","v":0},{"$f":"'3'!K$4","v":0},{"$f":"'3'!L$4","v":0},{"$f":"'3'!M$4","v":0},{"$f":"SUM(B17:M17)","v":0}]
[{"$f":"'4'!ddd","v":0},{"$f":"'4'!B$4","v":0},{"$f":"'4'!C$4","v":0},{"$f":"'4'!D$4","v":0},{"$f":"'4'!E$4","v":0},{"$f":"'4'!F$4","v":0},{"$f":"'4'!G$4","v":0},{"$f":"'4'!H$4","v":0},{"$f":"'4'!I$4","v":0},{"$f":"'4'!J$4","v":0},{"$f":"'4'!K$4","v":0},{"$f":"'4'!L$4","v":0},{"$f":"'4'!M$4","v":0},0]
[{"$f":"'5'!ddd","v":0},{"$f":"'5'!B$4","v":0},{"$f":"'5'!C$4","v":0},{"$f":"'5'!D$4","v":0},{"$f":"'5'!E$4","v":0},{"$f":"'5'!F$4","v":0},{"$f":"'5'!G$4","v":0},{"$f":"'5'!H$4","v":0},{"$f":"'5'!I$4","v":0},{"$f":"'5'!J$4","v":0},{"$f":"'5'!K$4","v":0},{"$f":"'5'!L$4","v":0},{"$f":"'5'!M$4","v":0},0]
[{"$f":"'6'!ddd","v":0},{"$f":"'6'!B$4","v":0},{"$f":"'6'!C$4","v":0},{"$f":"'6'!D$4","v":0},{"$f":"'6'!E$4","v":0},{"$f":"'6'!F$4","v":0},{"$f":"'6'!G$4","v":0},{"$f":"'6'!H$4","v":0},{"$f":"'6'!I$4","v":0},{"$f":"'6'!J$4","v":0},{"$f":"'6'!K$4","v":0},{"$f":"'6'!L$4","v":0},{"$f":"'6'!M$4","v":0},0]
[{"$f":"'7'!ddd","v":0},{"$f":"'7'!B$4","v":0},{"$f":"'7'!C$4","v":0},{"$f":"'7'!D$4","v":0},{"$f":"'7'!E$4","v":0},{"$f":"'7'!F$4","v":0},{"$f":"'7'!G$4","v":0},{"$f":"'7'!H$4","v":0},{"$f":"'7'!I$4","v":0},{"$f":"'7'!J$4","v":0},{"$f":"'7'!K$4","v":0},{"$f":"'7'!L$4","v":0},{"$f":"'7'!M$4","v":0},0]
[{"$f":"'8'!ddd","v":0},{"$f":"'8'!B$4","v":0},{"$f":"'8'!C$4","v":0},{"$f":"'8'!D$4","v":0},{"$f":"'8'!E$4","v":0},{"$f":"'8'!F$4","v":0},{"$f":"'8'!G$4","v":0},{"$f":"'8'!H$4","v":0},{"$f":"'8'!I$4","v":0},{"$f":"'8'!J$4","v":0},{"$f":"'8'!K$4","v":0},{"$f":"'8'!L$4","v":0},{"$f":"'8'!M$4","v":0},0]
["gemiddeld:",{"$f":"AVERAGEIF(B15:B22,\">0\")","v":{"$error":"#DIV/0!"}},{"$error":"#DIV/0!"},{"$error":"#DIV/0!"},{"$error":"#DIV/0!"},{"$error":"#DIV/0!"},{"$error":"#DIV/0!"},{"$error":"#DIV/0!"},{"$error":"#DIV/0!"},{"$error":"#DIV/0!"},{"$error":"#DIV/0!"},{"$error":"#DIV/0!"},{"$error":"#DIV/0!"},{"$error":"#DIV/0!"}]
[]
["aangekochte elektriciteit"]
[null,"januari","februari","maart","april","mei","juni","juli","augustus","september","oktober","november","december","totaal"]
[{"$f":"'1'!ddd","v":2012},{"$f":"B3+B15","v":0},{"$f":"C3+C15","v":0},0,0,0,0,0,0,0,0,0,0,{"$f":"SUM(B27:M27)","v":0}]
[{"$f":"'2'!ddd","v":2013},{"$f":"B4+B16","v":0},{"$f":"C4+C16","v":0},0,0,0,0,0,0,0,0,0,0,{"$f":"SUM(B28:M28)","v":0}]
[{"$f":"'3'!ddd","v":0},{"$f":"B5+B17","v":0},0,0,0,0,0,0,0,0,0,0,0,{"$f":"SUM(B29:M29)","v":0}]
[{"$f":"'4'!ddd","v":0},0,0,0,0,0,0,0,0,0,0,0,0,0]
[{"$f":"'5'!ddd","v":0},0,0,0,0,0,0,0,0,0,0,0,0,0]
[{"$f":"'6'!ddd","v":0},0,0,0,0,0,0,0,0,0,0,0,0,0]
[{"$f":"'7'!ddd","v":0},0,0,0,0,0,0,0,0,0,0,0,0,0]
[{"$f":"'8'!ddd","v":0},{"$f":"B10+B22","v":0},0,0,0,0,0,0,0,0,0,0,0,0]
["gemiddeld:",{"$f":"AVERAGEIF(B27:B34,\">0\")","v":{"$error":"#DIV/0!"}},{"$error":"#DIV/0!"},{"$error":"#DIV/0!"},{"$error":"#DIV/0!"},{"$error":"#DIV/0!"},{"$error":"#DIV/0!"},{"$error":"#DIV/0!"},{"$error":"#DIV/0!"},{"$error":"#DIV/0!"},{"$error":"#DIV/0!"},{"$error":"#DIV/0!"},{"$error":"#DIV/0!"},{"$error":"#DIV/0!"}]
[]
["verkochte electriciteit hoog"]
[null,"januari","februari","maart","april","mei","juni","juli","augustus","september","oktober","november","december","totaal"]
[{"$f":"'1'!ddd","v":2012},{"$f":"'1'!B$6","v":0},{"$f":"'1'!C$6","v":0},{"$f":"'1'!D$6","v":0},{"$f":"'1'!E$6","v":0},{"$f":"'1'!F$6","v":0},{"$f":"'1'!G$6","v":0},{"$f":"'1'!H$6","v":0},{"$f":"'1'!I$6","v":0},{"$f":"'1'!J$6","v":0},{"$f":"'1'!K$6","v":0},{"$f":"'1'!L$6","v":0},{"$f":"'1'!M$6","v":0},{"$f":"SUM(B39:M39)","v":0}]
[{"$f":"'2'!ddd","v":2013},{"$f":"'2'!B$6","v":0},{"$f":"'2'!C$6","v":0},{"$f":"'2'!D$6","v":0},{"$f":"'2'!E$6","v":0},{"$f":"'2'!F$6","v":0},{"$f":"'2'!G$6","v":0},{"$f":"'2'!H$6","v":0},{"$f":"'2'!I$6","v":0},{"$f":"'2'!J$6","v":0},{"$f":"'2'!K$6","v":0},{"$f":"'2'!L$6","v":0},{"$f":"'2'!M$6","v":0},{"$f":"SUM(B40:M40)","v":0}]
[{"$f":"'3'!ddd","v":0},{"$f":"'3'!B$6","v":0},{"$f":"'3'!C$6","v":0},{"$f":"'3'!D$6","v":0},{"$f":"'3'!E$6","v":0},{"$f":"'3'!F$6","v":0},{"$f":"'3'!G$6","v":0},{"$f":"'3'!H$6","v":0},{"$f":"'3'!I$6","v":0},{"$f":"'3'!J$6","v":0},{"$f":"'3'!K$6","v":0},{"$f":"'3'!L$6","v":0},{"$f":"'3'!M$6","v":0},{"$f":"SUM(B41:M41)","v":0}]
[{"$f":"'4'!ddd","v":0},{"$f":"'4'!B$6","v":0},{"$f":"'4'!C$6","v":0},{"$f":"'4'!D$6","v":0},{"$f":"'4'!E$6","v":0},{"$f":"'4'!F$6","v":0},{"$f":"'4'!G$6","v":0},{"$f":"'4'!H$6","v":0},{"$f":"'4'!I$6","v":0},{"$f":"'4'!J$6","v":0},{"$f":"'4'!K$6","v":0},{"$f":"'4'!L$6","v":0},{"$f":"'4'!M$6","v":0},0]
[{"$f":"'5'!ddd","v":0},{"$f":"'5'!B$6","v":0},{"$f":"'5'!C$6","v":0},{"$f":"'5'!D$6","v":0},{"$f":"'5'!E$6","v":0},{"$f":"'5'!F$6","v":0},{"$f":"'5'!G$6","v":0},{"$f":"'5'!H$6","v":0},{"$f":"'5'!I$6","v":0},{"$f":"'5'!J$6","v":0},{"$f":"'5'!K$6","v":0},{"$f":"'5'!L$6","v":0},{"$f":"'5'!M$6","v":0},0]
[{"$f":"'6'!ddd","v":0},{"$f":"'6'!B$6","v":0},{"$f":"'6'!C$6","v":0},{"$f":"'6'!D$6","v":0},{"$f":"'6'!E$6","v":0},{"$f":"'6'!F$6","v":0},{"$f":"'6'!G$6","v":0},{"$f":"'6'!H$6","v":0},{"$f":"'6'!I$6","v":0},{"$f":"'6'!J$6","v":0},{"$f":"'6'!K$6","v":0},{"$f":"'6'!L$6","v":0},{"$f":"'6'!M$6","v":0},0]
[{"$f":"'7'!ddd","v":0},{"$f":"'7'!B$6","v":0},{"$f":"'7'!C$6","v":0},{"$f":"'7'!D$6","v":0},{"$f":"'7'!E$6","v":0},{"$f":"'7'!F$6","v":0},{"$f":"'7'!G$6","v":0},{"$f":"'7'!H$6","v":0},{"$f":"'7'!I$6","v":0},{"$f":"'7'!J$6","v":0},{"$f":"'7'!K$6","v":0},{"$f":"'7'!L$6","v":0},{"$f":"'7'!M$6","v":0},0]
[{"$f":"'8'!ddd","v":0},{"$f":"'8'!B$6","v":0},{"$f":"'8'!C$6","v":0},{"$f":"'8'!D$6","v":0},{"$f":"'8'!E$6","v":0},{"$f":"'8'!F$6","v":0},{"$f":"'8'!G$6","v":0},{"$f":"'8'!H$6","v":0},{"$f":"'8'!I$6","v":0},{"$f":"'8'!J$6","v":0},{"$f":"'8'!K$6","v":0},{"$f":"'8'!L$6","v":0},{"$f":"'8'!M$6","v":0},0]
["gemiddeld:",{"$f":"AVERAGEIF(B39:B46,\">0\")","v":{"$error":"#DIV/0!"}},{"$error":"#DIV/0!"},{"$error":"#DIV/0!"},{"$error":"#DIV/0!"},{"$error":"#DIV/0!"},{"$error":"#DIV/0!"},{"$error":"#DIV/0!"},{"$error":"#DIV/0!"},{"$error":"#DIV/0!"},{"$error":"#DIV/0!"},{"$error":"#DIV/0!"},{"$error":"#DIV/0!"},{"$error":"#DIV/0!"}]
[]
["verkochte electriciteit laag"]
[null,"januari","februari","maart","april","mei","juni","juli","augustus","september","oktober","november","december","totaal"]
[{"$f":"'1'!ddd","v":2012},{"$f":"'1'!B$7","v":0},{"$f":"'1'!C$7","v":0},{"$f":"'1'!D$7","v":0},{"$f":"'1'!E$7","v":0},{"$f":"'1'!F$7","v":0},{"$f":"'1'!G$7","v":0},{"$f":"'1'!H$7","v":0},{"$f":"'1'!I$7","v":0},{"$f":"'1'!J$7","v":0},{"$f":"'1'!K$7","v":0},{"$f":"'1'!L$7","v":0},{"$f":"'1'!M$7","v":0},{"$f":"SUM(B51:M51)","v":0}]
[{"$f":"'2'!ddd","v":2013},{"$f":"'2'!B$7","v":0},{"$f":"'2'!C$7","v":0},{"$f":"'2'!D$7","v":0},{"$f":"'2'!E$7","v":0},{"$f":"'2'!F$7","v":0},{"$f":"'2'!G$7","v":0},{"$f":"'2'!H$7","v":0},{"$f":"'2'!I$7","v":0},{"$f":"'2'!J$7","v":0},{"$f":"'2'!K$7","v":0},{"$f":"'2'!L$7","v":0},{"$f":"'2'!M$7","v":0},{"$f":"SUM(B52:M52)","v":0}]
[{"$f":"'3'!ddd","v":0},{"$f":"'3'!B$7","v":0},{"$f":"'3'!C$7","v":0},{"$f":"'3'!D$7","v":0},{"$f":"'3'!E$7","v":0},{"$f":"'3'!F$7","v":0},{"$f":"'3'!G$7","v":0},{"$f":"'3'!H$7","v":0},{"$f":"'3'!I$7","v":0},{"$f":"'3'!J$7","v":0},{"$f":"'3'!K$7","v":0},{"$f":"'3'!L$7","v":0},{"$f":"'3'!M$7","v":0},{"$f":"SUM(B53:M53)","v":0}]
[{"$f":"'4'!ddd","v":0},{"$f":"'4'!B$7","v":0},{"$f":"'4'!C$7","v":0},{"$f":"'4'!D$7","v":0},{"$f":"'4'!E$7","v":0},{"$f":"'4'!F$7","v":0},{"$f":"'4'!G$7","v":0},{"$f":"'4'!H$7","v":0},{"$f":"'4'!I$7","v":0},{"$f":"'4'!J$7","v":0},{"$f":"'4'!K$7","v":0},{"$f":"'4'!L$7","v":0},{"$f":"'4'!M$7","v":0},0]
[{"$f":"'5'!ddd","v":0},{"$f":"'5'!B$7","v":0},{"$f":"'5'!C$7","v":0},{"$f":"'5'!D$7","v":0},{"$f":"'5'!E$7","v":0},{"$f":"'5'!F$7","v":0},{"$f":"'5'!G$7","v":0},{"$f":"'5'!H$7","v":0},{"$f":"'5'!I$7","v":0},{"$f":"'5'!J$7","v":0},{"$f":"'5'!K$7","v":0},{"$f":"'5'!L$7","v":0},{"$f":"'5'!M$7","v":0},0]
[{"$f":"'6'!ddd","v":0},{"$f":"'6'!B$7","v":0},{"$f":"'6'!C$7","v":0},{"$f":"'6'!D$7","v":0},{"$f":"'6'!E$7","v":0},{"$f":"'6'!F$7","v":0},{"$f":"'6'!G$7","v":0},{"$f":"'6'!H$7","v":0},{"$f":"'6'!I$7","v":0},{"$f":"'6'!J$7","v":0},{"$f":"'6'!K$7","v":0},{"$f":"'6'!L$7","v":0},{"$f":"'6'!M$7","v":0},0]
[{"$f":"'7'!ddd","v":0},{"$f":"'7'!B$7","v":0},{"$f":"'7'!C$7","v":0},{"$f":"'7'!D$7","v":0},{"$f":"'7'!E$7","v":0},{"$f":"'7'!F$7","v":0},{"$f":"'7'!G$7","v":0},{"$f":"'7'!H$7","v":0},{"$f":"'7'!I$7","v":0},{"$f":"'7'!J$7","v":0},{"$f":"'7'!K$7","v":0},{"$f":"'7'!L$7","v":0},{"$f":"'7'!M$7","v":0},0]
[{"$f":"'8'!ddd","v":0},{"$f":"'8'!B$7","v":0},{"$f":"'8'!C$7","v":0},{"$f":"'8'!D$7","v":0},{"$f":"'8'!E$7","v":0},{"$f":"'8'!F$7","v":0},{"$f":"'8'!G$7","v":0},{"$f":"'8'!H$7","v":0},{"$f":"'8'!I$7","v":0},{"$f":"'8'!J$7","v":0},{"$f":"'8'!K$7","v":0},{"$f":"'8'!L$7","v":0},{"$f":"'8'!M$7","v":0},0]
["gemiddeld:",{"$f":"AVERAGEIF(B51:B58,\">0\")","v":{"$error":"#DIV/0!"}},{"$error":"#DIV/0!"},{"$error":"#DIV/0!"},{"$error":"#DIV/0!"},{"$error":"#DIV/0!"},{"$error":"#DIV/0!"},{"$error":"#DIV/0!"},{"$error":"#DIV/0!"},{"$error":"#DIV/0!"},{"$error":"#DIV/0!"},{"$error":"#DIV/0!"},{"$error":"#DIV/0!"},{"$error":"#DIV/0!"}]
[]
["verkochte elektriciteit"]
[null,"januari","februari","maart","april","mei","juni","juli","augustus","september","oktober","november","december","totaal"]
[{"$f":"'1'!ddd","v":2012},{"$f":"B39+B51","v":0},{"$f":"C39+C51","v":0},0,0,0,0,0,0,0,0,0,0,{"$f":"SUM(B63:M63)","v":0}]
[{"$f":"'2'!ddd","v":2013},0,{"$f":"C40+C52","v":0},0,0,0,0,0,0,0,0,0,0,{"$f":"SUM(B64:M64)","v":0}]
[{"$f":"'3'!ddd","v":0},0,{"$f":"C41+C53","v":0},0,0,0,0,0,0,0,0,0,0,{"$f":"SUM(B65:M65)","v":0}]
[{"$f":"'4'!ddd","v":0},0,{"$f":"C42+C54","v":0},0,0,0,0,0,0,0,0,0,0,0]
[{"$f":"'5'!ddd","v":0},0,{"$f":"C43+C55","v":0},0,0,0,0,0,0,0,0,0,0,0]
[{"$f":"'6'!ddd","v":0},0,{"$f":"C44+C56","v":0},0,0,0,0,0,0,0,0,0,0,0]
[{"$f":"'7'!ddd","v":0},0,{"$f":"C45+C57","v":0},0,0,0,0,0,0,0,0,0,0,0]
[{"$f":"'8'!ddd","v":0},0,{"$f":"C46+C58","v":0},0,0,0,0,0,0,0,0,0,0,0]
["gemiddeld:",{"$f":"AVERAGEIF(B63:B70,\">0\")","v":{"$error":"#DIV/0!"}},{"$error":"#DIV/0!"},{"$error":"#DIV/0!"},{"$error":"#DIV/0!"},{"$error":"#DIV/0!"},{"$error":"#DIV/0!"},{"$error":"#DIV/0!"},{"$error":"#DIV/0!"},{"$error":"#DIV/0!"},{"$error":"#DIV/0!"},{"$error":"#DIV/0!"},{"$error":"#DIV/0!"},{"$error":"#DIV/0!"}]
[]
["verbruikt gas"]
[null,"januari","februari","maart","april","mei","juni","juli","augustus","september","oktober","november","december","totaal"]
[{"$f":"'1'!ddd","v":2012},{"$f":"'1'!B$9","v":0},{"$f":"'1'!C$9","v":0},{"$f":"'1'!D$9","v":0},{"$f":"'1'!E$9","v":0},{"$f":"'1'!F$9","v":0},{"$f":"'1'!G$9","v":0},{"$f":"'1'!H$9","v":0},{"$f":"'1'!I$9","v":0},{"$f":"'1'!J$9","v":0},{"$f":"'1'!K$9","v":0},{"$f":"'1'!L$9","v":0},{"$f":"'1'!M$9","v":0},{"$f":"SUM(B75:M75)","v":0}]
[{"$f":"'2'!ddd","v":2013},{"$f":"'2'!B$9","v":0},{"$f":"'2'!C$9","v":0},{"$f":"'2'!D$9","v":0},{"$f":"'2'!E$9","v":0},{"$f":"'2'!F$9","v":0},{"$f":"'2'!G$9","v":0},{"$f":"'2'!H$9","v":0},{"$f":"'2'!I$9","v":0},{"$f":"'2'!J$9","v":0},{"$f":"'2'!K$9","v":0},{"$f":"'2'!L$9","v":0},{"$f":"'2'!M$9","v":0},{"$f":"SUM(B76:M76)","v":0}]
[{"$f":"'3'!ddd","v":0},{"$f":"'3'!B$9","v":0},{"$f":"'3'!C$9","v":0},{"$f":"'3'!D$9","v":0},{"$f":"'3'!E$9","v":0},{"$f":"'3'!F$9","v":0},{"$f":"'3'!G$9","v":0},{"$f":"'3'!H$9","v":0},{"$f":"'3'!I$9","v":0},{"$f":"'3'!J$9","v":0},{"$f":"'3'!K$9","v":0},{"$f":"'3'!L$9","v":0},{"$f":"'3'!M$9","v":0},{"$f":"SUM(B77:M77)","v":0}]
[{"$f":"'4'!ddd","v":0},{"$f":"'4'!B$9","v":0},{"$f":"'4'!C$9","v":0},{"$f":"'4'!D$9","v":0},{"$f":"'4'!E$9","v":0},{"$f":"'4'!F$9","v":0},{"$f":"'4'!G$9","v":0},{"$f":"'4'!H$9","v":0},{"$f":"'4'!I$9","v":0},{"$f":"'4'!J$9","v":0},{"$f":"'4'!K$9","v":0},{"$f":"'4'!L$9","v":0},{"$f":"'4'!M$9","v":0},0]
[{"$f":"'5'!ddd","v":0},{"$f":"'5'!B$9","v":0},{"$f":"'5'!C$9","v":0},{"$f":"'5'!D$9","v":0},{"$f":"'5'!E$9","v":0},{"$f":"'5'!F$9","v":0},{"$f":"'5'!G$9","v":0},{"$f":"'5'!H$9","v":0},{"$f":"'5'!I$9","v":0},{"$f":"'5'!J$9","v":0},{"$f":"'5'!K$9","v":0},{"$f":"'5'!L$9","v":0},{"$f":"'5'!M$9","v":0},0]
[{"$f":"'6'!ddd","v":0},{"$f":"'6'!B$9","v":0},{"$f":"'6'!C$9","v":0},{"$f":"'6'!D$9","v":0},{"$f":"'6'!E$9","v":0},{"$f":"'6'!F$9","v":0},{"$f":"'6'!G$9","v":0},{"$f":"'6'!H$9","v":0},{"$f":"'6'!I$9","v":0},{"$f":"'6'!J$9","v":0},{"$f":"'6'!K$9","v":0},{"$f":"'6'!L$9","v":0},{"$f":"'6'!M$9","v":0},0]
[{"$f":"'7'!ddd","v":0},{"$f":"'7'!B$9","v":0},{"$f":"'7'!C$9","v":0},{"$f":"'7'!D$9","v":0},{"$f":"'7'!E$9","v":0},{"$f":"'7'!F$9","v":0},{"$f":"'7'!G$9","v":0},{"$f":"'7'!H$9","v":0},{"$f":"'7'!I$9","v":0},{"$f":"'7'!J$9","v":0},{"$f":"'7'!K$9","v":0},{"$f":"'7'!L$9","v":0},{"$f":"'7'!M$9","v":0},0]
[{"$f":"'8'!ddd","v":0},{"$f":"'8'!B$9","v":0},{"$f":"'8'!C$9","v":0},{"$f":"'8'!D$9","v":0},{"$f":"'8'!E$9","v":0},{"$f":"'8'!F$9","v":0},{"$f":"'8'!G$9","v":0},{"$f":"'8'!H$9","v":0},{"$f":"'8'!I$9","v":0},{"$f":"'8'!J$9","v":0},{"$f":"'8'!K$9","v":0},{"$f":"'8'!L$9","v":0},{"$f":"'8'!M$9","v":0},0]
["gemiddeld:",{"$f":"AVERAGEIF(B75:B82,\">0\")","v":{"$error":"#DIV/0!"}},{"$error":"#DIV/0!"},{"$error":"#DIV/0!"},{"$error":"#DIV/0!"},{"$error":"#DIV/0!"},{"$error":"#DIV/0!"},{"$error":"#DIV/0!"},{"$error":"#DIV/0!"},{"$error":"#DIV/0!"},{"$error":"#DIV/0!"},{"$error":"#DIV/0!"},{"$f":"AVERAGEIF(M75:M82,\">0\")","v":{"$error":"#DIV/0!"}},{"$f":"AVERAGEIF(N75:N82,\">0\")","v":{"$error":"#DIV/0!"}}]
[]
["verbruikt water"]
[null,"januari","februari","maart","april","mei","juni","juli","augustus","september","oktober","november","december","totaal"]
[{"$f":"'1'!ddd","v":2012},{"$f":"'1'!B$10","v":0},{"$f":"'1'!C$10","v":0},{"$f":"'1'!D$10","v":0},{"$f":"'1'!E$10","v":0},{"$f":"'1'!F$10","v":0},{"$f":"'1'!G$10","v":0},{"$f":"'1'!H$10","v":0},{"$f":"'1'!I$10","v":0},{"$f":"'1'!J$10","v":0},{"$f":"'1'!K$10","v":0},{"$f":"'1'!L$10","v":0},{"$f":"'1'!M$10","v":0},{"$f":"SUM(B87:M87)","v":0}]
[{"$f":"'2'!ddd","v":2013},{"$f":"'2'!B$10","v":0},{"$f":"'2'!C$10","v":0},{"$f":"'2'!D$10","v":0},{"$f":"'2'!E$10","v":0},{"$f":"'2'!F$10","v":0},{"$f":"'2'!G$10","v":0},{"$f":"'2'!H$10","v":0},{"$f":"'2'!I$10","v":0},{"$f":"'2'!J$10","v":0},{"$f":"'2'!K$10","v":0},{"$f":"'2'!L$10","v":0},{"$f":"'2'!M$10","v":0},{"$f":"SUM(B88:M88)","v":0}]
[{"$f":"'3'!ddd","v":0},{"$f":"'3'!B$10","v":0},{"$f":"'3'!C$10","v":0},{"$f":"'3'!D$10","v":0},{"$f":"'3'!E$10","v":0},{"$f":"'3'!F$10","v":0},{"$f":"'3'!G$10","v":0},{"$f":"'3'!H$10","v":0},{"$f":"'3'!I$10","v":0},{"$f":"'3'!J$10","v":0},{"$f":"'3'!K$10","v":0},{"$f":"'3'!L$10","v":0},{"$f":"'3'!M$10","v":0},{"$f":"SUM(B89:M89)","v":0}]
[{"$f":"'4'!ddd","v":0},{"$f":"'4'!B$10","v":0},{"$f":"'4'!C$10","v":0},{"$f":"'4'!D$10","v":0},{"$f":"'4'!E$10","v":0},{"$f":"'4'!F$10","v":0},{"$f":"'4'!G$10","v":0},{"$f":"'4'!H$10","v":0},{"$f":"'4'!I$10","v":0},{"$f":"'4'!J$10","v":0},{"$f":"'4'!K$10","v":0},{"$f":"'4'!L$10","v":0},{"$f":"'4'!M$10","v":0},0]
[{"$f":"'5'!ddd","v":0},{"$f":"'5'!B$10","v":0},{"$f":"'5'!C$10","v":0},{"$f":"'5'!D$10","v":0},{"$f":"'5'!E$10","v":0},{"$f":"'5'!F$10","v":0},{"$f":"'5'!G$10","v":0},{"$f":"'5'!H$10","v":0},{"$f":"'5'!I$10","v":0},{"$f":"'5'!J$10","v":0},{"$f":"'5'!K$10","v":0},{"$f":"'5'!L$10","v":0},{"$f":"'5'!M$10","v":0},0]
[{"$f":"'6'!ddd","v":0},{"$f":"'6'!B$10","v":0},{"$f":"'6'!C$10","v":0},{"$f":"'6'!D$10","v":0},{"$f":"'6'!E$10","v":0},{"$f":"'6'!F$10","v":0},{"$f":"'6'!G$10","v":0},{"$f":"'6'!H$10","v":0},{"$f":"'6'!I$10","v":0},{"$f":"'6'!J$10","v":0},{"$f":"'6'!K$10","v":0},{"$f":"'6'!L$10","v":0},{"$f":"'6'!M$10","v":0},0]
[{"$f":"'7'!ddd","v":0},{"$f":"'7'!B$10","v":0},{"$f":"'7'!C$10","v":0},{"$f":"'7'!D$10","v":0},{"$f":"'7'!E$10","v":0},{"$f":"'7'!F$10","v":0},{"$f":"'7'!G$10","v":0},{"$f":"'7'!H$10","v":0},{"$f":"'7'!I$10","v":0},{"$f":"'7'!J$10","v":0},{"$f":"'7'!K$10","v":0},{"$f":"'7'!L$10","v":0},{"$f":"'7'!M$10","v":0},0]
[{"$f":"'8'!ddd","v":0},{"$f":"'8'!B$10","v":0},{"$f":"'8'!C$10","v":0},{"$f":"'8'!D$10","v":0},{"$f":"'8'!E$10","v":0},{"$f":"'8'!F$10","v":0},{"$f":"'8'!G$10","v":0},{"$f":"'8'!H$10","v":0},{"$f":"'8'!I$10","v":0},{"$f":"'8'!J$10","v":0},{"$f":"'8'!K$10","v":0},{"$f":"'8'!L$10","v":0},{"$f":"'8'!M$10","v":0},0]
["gemiddeld:",{"$f":"AVERAGEIF(B87:B94,\">0\")","v":{"$error":"#DIV/0!"}},{"$error":"#DIV/0!"},{"$error":"#DIV/0!"},{"$error":"#DIV/0!"},{"$error":"#DIV/0!"},{"$error":"#DIV/0!"},{"$error":"#DIV/0!"},{"$error":"#DIV/0!"},{"$error":"#DIV/0!"},{"$error":"#DIV/0!"},{"$error":"#DIV/0!"},{"$error":"#DIV/0!"},{"$error":"#DIV/0!"}]
[]
["2 persoons huishouden  elektrisch:",311.22000000000003,269.74,283.27999999999997,261.44,254.69,240.24,237.35,241.52,257.25,275.25,280.39,308.64999999999998,{"$f":"SUM(B97:M97)","v":3221.02}]
["2 persoons huishouden  gas:",225.23,195.2,170.63,128.31,45.05,28.67,24.57,24.57,32.76,108.84,165.17,217.04,{"$f":"SUM(B98:M98)","v":1366.04}]
["4 persoons huishouden  elektrisch:",418.47,362.33,380.9,351.54,342.47,323.02999999999997,319.14999999999998,324.76,333.83,370.11,377.02,415.02,4318.6299999999992]
["4 persoons huishouden  gas:",241.73,209.49,183.13,137.71,48.35,30.77,26.37,26.37,37.97,115.74,177.27,232.94,1467.8400000000001]
[]
["gemiddeld"]